BEGIN:VCALENDAR
VERSION:2.0
PRODID:-//Dementia Life - ECPv6.15.18//NONSGML v1.0//EN
CALSCALE:GREGORIAN
METHOD:PUBLISH
X-WR-CALNAME:Dementia Life
X-ORIGINAL-URL:https://dementialife.care
X-WR-CALDESC:Events for Dementia Life
REFRESH-INTERVAL;VALUE=DURATION:PT1H
X-Robots-Tag:noindex
X-PUBLISHED-TTL:PT1H
BEGIN:VTIMEZONE
TZID:UTC
BEGIN:STANDARD
TZOFFSETFROM:+0000
TZOFFSETTO:+0000
TZNAME:UTC
DTSTART:20250101T000000
END:STANDARD
END:VTIMEZONE
BEGIN:VEVENT
DTSTART;TZID=UTC:20260423T150000
DTEND;TZID=UTC:20260423T160000
DTSTAMP:20260422T085429
CREATED:20260311T210911Z
LAST-MODIFIED:20260311T210911Z
UID:12104-1776956400-1776960000@dementialife.care
SUMMARY:Top 3 Challenging Dementia Behaviors- And What Actually Helps
DESCRIPTION:Exit seeking.\nAnger or agitation.\nRefusing care. \nThese behaviors are incredibly common in dementia — but they can leave families feeling exhausted\, frustrated\, and unsure how to respond. \nIn this compassionate\, practical session\, you’ll learn why these behaviors happen and how to respond in ways that reduce stress for both you and your loved one. \nYou’ll learn: \n• What your loved one may actually be trying to communicate\n• What helps in the moment — and what can make things worse\n• Simple strategies that can calm difficult situations\n• How to respond with more confidence and less frustration \nYou’ll leave with practical tools you can use right away to create calmer\, more connected caregiving moments. \nYou don’t have to figure this out alone. 🤍 For more information: mary@dementialife.care
URL:https://dementialife.care/event/top-3-challenging-dementia-behaviors-and-what-actually-helps/
LOCATION:Villages of St. Peters\, 5400 EXECUTIVE CENTER PARKWAY\, St. Peters\, MO\, United States
END:VEVENT
BEGIN:VEVENT
DTSTART;TZID=UTC:20260427T153000
DTEND;TZID=UTC:20260427T163000
DTSTAMP:20260422T085429
CREATED:20260311T205659Z
LAST-MODIFIED:20260311T205659Z
UID:12089-1777303800-1777307400@dementialife.care
SUMMARY:Dementia 101: Understanding the Basics For Better Care
DESCRIPTION:Join us as we kick off our new Dementia Education for Families! In this session\, you’ll learn the basics of dementia—what causes it\, how it shows up\, and how it changes over time. We’ll talk about how it affects memory\, behavior\, and communication\, and share simple\, caring ways to support your loved one. Our goal is to help you feel more confident and connected as you care for someone living with dementia.For more information: mary@dementialife.care
URL:https://dementialife.care/event/dementia-101-understanding-the-basics-for-better-care-11/
LOCATION:Most Sacred Heart Church\, 350 E 4th St\, Eureka\, Missouri\, 63025
END:VEVENT
END:VCALENDAR