BEGIN:VCALENDAR
VERSION:2.0
PRODID:-//Dementia Life - ECPv6.15.18//NONSGML v1.0//EN
CALSCALE:GREGORIAN
METHOD:PUBLISH
X-ORIGINAL-URL:https://dementialife.care
X-WR-CALDESC:Events for Dementia Life
REFRESH-INTERVAL;VALUE=DURATION:PT1H
X-Robots-Tag:noindex
X-PUBLISHED-TTL:PT1H
BEGIN:VTIMEZONE
TZID:UTC
BEGIN:STANDARD
TZOFFSETFROM:+0000
TZOFFSETTO:+0000
TZNAME:UTC
DTSTART:20240101T000000
END:STANDARD
END:VTIMEZONE
BEGIN:VEVENT
DTSTART;TZID=UTC:20251103T143000
DTEND;TZID=UTC:20251103T143000
DTSTAMP:20260422T155153
CREATED:20251001T182756Z
LAST-MODIFIED:20251001T182901Z
UID:11682-1762180200-1762180200@dementialife.care
SUMMARY:Dementia Education at The Lumiere of Chesterfield
DESCRIPTION:In this session\, you’ll learn the basics of dementia—what causes it\, how it shows up\, and how it changes over time. We’ll talk about how it affects memory\, behavior\, and communication\, and share simple\, caring ways to support your loved one. Our goal is to help you feel more confident and connected as\nyou care for someone living with dementia. RSVP: mary@dementialife.care \nThere is no cost to attend – come and bring a friend!
URL:https://dementialife.care/event/dementia-education-at-the-lumiere-of-chesterfield/
LOCATION:The Lumiere of Chesterfield\, 16255 Chesterfield Pkwy W\, Chesterfield\, MO\, 63017\, United States
END:VEVENT
BEGIN:VEVENT
DTSTART;TZID=UTC:20251117T140000
DTEND;TZID=UTC:20251117T150000
DTSTAMP:20260422T155153
CREATED:20251107T165751Z
LAST-MODIFIED:20251107T165751Z
UID:11832-1763388000-1763391600@dementialife.care
SUMMARY:Person Centered Care: Ensuring Your Loved One Is Seen and Known
DESCRIPTION:Join us for a warm and practical workshop all about person-centered care—what it is\, why it matters\, and how you can help your loved one feel valued and truly known.  \n\n What person-centered care looks like in everyday life\n How to create a personalized care profile memory book\n Ways to collaborate with caregivers\n\nWhether your loved one lives at home or in a care community\, this session will give you real tools to make their care more personal\, joyful\, and supportive.
URL:https://dementialife.care/event/person-centered-care-ensuring-your-loved-one-is-seen-and-known-2/
LOCATION:New Perspective Senior Living\, 400 Siedentop Rd\, Weldon Spring\, MO\, United States
END:VEVENT
BEGIN:VEVENT
DTSTART;TZID=UTC:20251117T183000
DTEND;TZID=UTC:20251117T193000
DTSTAMP:20260422T155153
CREATED:20251107T170133Z
LAST-MODIFIED:20251107T170133Z
UID:11834-1763404200-1763407800@dementialife.care
SUMMARY:Dementia 101: Understanding The Basics For Better Care
DESCRIPTION:In this free session\, you’ll learn the basics of dementia—what causes it\, how it shows up\, and how it changes over time. We’ll talk about how it affects memory\, behavior\, and communication\, and share simple\, caring ways to support your loved one. Our goal is to help you feel more confident and connected as you care for someone living with dementia. There is no cost to attend\, RSVP to mary@dementialife.care
URL:https://dementialife.care/event/dementia-101-understanding-the-basics-for-better-care-4/
LOCATION:The Commons at New Town St. Charles\, 3324 Rue Royale\, St. Charles\, MO\, 63301\, United States
END:VEVENT
BEGIN:VEVENT
DTSTART;TZID=UTC:20251119T151500
DTEND;TZID=UTC:20251119T161500
DTSTAMP:20260422T155153
CREATED:20251107T170328Z
LAST-MODIFIED:20251107T170328Z
UID:11837-1763565300-1763568900@dementialife.care
SUMMARY:Responding to Dementia Related Behaviors
DESCRIPTION:Caring for a loved one with dementia can be deeply meaningful—but it can also be frustrating when their words or actions seem confusing\, hurtful\, or hard to manage. This session will help you understand why these behaviors happen and give you practical tools for responding with patience\, compassion\, and confidence. Together\, we’ll explore real-life scenarios and strategies that bring calm\, reduce stress\, and strengthen connection. \nJoin us as we learn how to meet challenging moments with understanding—and create more peace for both you and your loved one.
URL:https://dementialife.care/event/responding-to-dementia-related-behaviors/
LOCATION:Villages of St. Peters\, 5400 EXECUTIVE CENTER PARKWAY\, St. Peters\, MO\, United States
END:VEVENT
BEGIN:VEVENT
DTSTART;TZID=UTC:20251120T091500
DTEND;TZID=UTC:20251120T100000
DTSTAMP:20260422T155153
CREATED:20251107T171247Z
LAST-MODIFIED:20251107T171247Z
UID:11845-1763630100-1763632800@dementialife.care
SUMMARY:Connected In Care Zoom Musical Memories
DESCRIPTION:Join us Thursday November 20th at 9:15am CST on Zoom for a heartwarming musical event designed especially for those living with dementia. Dementia Life Founder Mary Stoinski will be singing familiar favorites—songs that spark joy\, evoke memories\, and invite everyone to sing along. Whether you’re someone living with dementia\, a memory care community\, a caregiver\, a family member\, or just someone who loves music\, this event is for you! Contact mary@dementialife.care for more information!
URL:https://dementialife.care/event/connected-in-care-zoom-musical-memories/
LOCATION:Zoom
END:VEVENT
BEGIN:VEVENT
DTSTART;TZID=UTC:20251120T180000
DTEND;TZID=UTC:20251120T190000
DTSTAMP:20260422T155153
CREATED:20251107T170513Z
LAST-MODIFIED:20251107T170513Z
UID:11839-1763661600-1763665200@dementialife.care
SUMMARY:Responding To Dementia Related Behaviors
DESCRIPTION:Caring for a loved one with dementia can be deeply meaningful—but it can also be frustrating when their words or actions seem confusing\, hurtful\, or hard to manage. This session will help you understand why these behaviors happen and give you practical tools for responding with patience\, compassion\, and confidence. Together\, we’ll explore real-life scenarios and strategies that bring calm\, reduce stress\, and strengthen connection. \nJoin us as we learn how to meet challenging moments with understanding—and create more peace for both you and your loved one.
URL:https://dementialife.care/event/responding-to-dementia-related-behaviors-2/
LOCATION:Autumn View Gardens Assisted Living and Memory Care\, 16219 Autumn View Terrace Dr\, Ellisville\, MO\, 63011\, United States
END:VEVENT
BEGIN:VEVENT
DTSTART;TZID=UTC:20251124T103000
DTEND;TZID=UTC:20251124T110000
DTSTAMP:20260422T155153
CREATED:20251107T171051Z
LAST-MODIFIED:20251107T171051Z
UID:11843-1763980200-1763982000@dementialife.care
SUMMARY:Connected In Care Zoom Singalong!
DESCRIPTION:Join us Monday November 24th at 10:30am CST on Zoom for a heartwarming musical event designed especially for those living with dementia. Dementia Life Founder Mary Stoinski will be singing familiar favorites—songs that spark joy\, evoke memories\, and invite everyone to sing along. Whether you’re someone living with dementia\, a memory care community\, a caregiver\, a family member\, or just someone who loves music\, this event is for you! Contact mary@dementialife.care for more information!
URL:https://dementialife.care/event/connected-in-care-zoom-singalong/
LOCATION:Zoom
END:VEVENT
BEGIN:VEVENT
DTSTART;TZID=UTC:20251124T180000
DTEND;TZID=UTC:20251124T190000
DTSTAMP:20260422T155153
CREATED:20251107T170648Z
LAST-MODIFIED:20251107T170648Z
UID:11841-1764007200-1764010800@dementialife.care
SUMMARY:When Caring Changes: Knowing When To Bring In More Help
DESCRIPTION:As dementia progresses\, care needs often increase — sometimes beyond what one person can safely provide. In this free Dementia Life STL education session\, we’ll help you: \n ✅ Identify signs that it’s time to bring in more help \n ✅ Understand your options – in home and care communities \n ✅ Learn realistic pros and cons of each path \n ✅ Explore ways to pay for care \n ✅ Let go of guilt and find confidence in your next steps \nWhether your goal is to keep your loved one at home or to explore a move to memory care\, this session offers clarity\, compassion\, and practical next steps.
URL:https://dementialife.care/event/when-caring-changes-knowing-when-to-bring-in-more-help/
LOCATION:Faith Community Church\, 4824 Scottsdale Rd.\, House Springs\, MO\, 63051\, United States
END:VEVENT
END:VCALENDAR