BEGIN:VCALENDAR
VERSION:2.0
PRODID:-//Dementia Life - ECPv6.15.20//NONSGML v1.0//EN
CALSCALE:GREGORIAN
METHOD:PUBLISH
X-ORIGINAL-URL:https://dementialife.care
X-WR-CALDESC:Events for Dementia Life
REFRESH-INTERVAL;VALUE=DURATION:PT1H
X-Robots-Tag:noindex
X-PUBLISHED-TTL:PT1H
BEGIN:VTIMEZONE
TZID:UTC
BEGIN:STANDARD
TZOFFSETFROM:+0000
TZOFFSETTO:+0000
TZNAME:UTC
DTSTART:20240101T000000
END:STANDARD
END:VTIMEZONE
BEGIN:VEVENT
DTSTART;TZID=UTC:20250703T100000
DTEND;TZID=UTC:20250703T110000
DTSTAMP:20260422T222305
CREATED:20250605T010937Z
LAST-MODIFIED:20250613T133901Z
UID:11380-1751536800-1751540400@dementialife.care
SUMMARY:Connected in Care: Musical Memories on Zoom!
DESCRIPTION:Join us Thursday July 3rd at 10:00am CST on Zoom for a heartwarming musical event designed especially for those living with dementia. Dementia Life Founder Mary Stoinski will be singing familiar favorites—songs that spark joy\, evoke memories\, and invite everyone to sing along. Whether you’re someone living with dementia\, a memory care community\, a caregiver\, a family member\, or just someone who loves music\, this event is for you! Contact mary@dementialife.care for more information!
URL:https://dementialife.care/event/connected-in-care-musical-memories-on-zoom-july/
LOCATION:Zoom
END:VEVENT
BEGIN:VEVENT
DTSTART;TZID=UTC:20250709T180000
DTEND;TZID=UTC:20250709T190000
DTSTAMP:20260422T222305
CREATED:20250604T233548Z
LAST-MODIFIED:20250604T233548Z
UID:11371-1752084000-1752087600@dementialife.care
SUMMARY:Dementia 101: Understanding the Basics For Better Care
DESCRIPTION:Join us in person at The Bridge in New Town St. Charles on Wednesday July 9th at 6:00pm for Dementia 101. In this session\, you’ll learn the basics of dementia—what causes it\, how it shows up\, and how it changes over time. We’ll talk about how it affects memory\, behavior\, and communication\, and share simple\, caring ways to support your loved one. Our goal is to help you feel more confident and connected as you care for someone living with dementia.
URL:https://dementialife.care/event/dementia-101-understanding-the-basics-for-better-care-3/
LOCATION:The Bridge\, 3257 Domain St\, Saint Charles\, MO\, 63301\, United States
ORGANIZER;CN="Mary Stoinski":MAILTO:mary@dementialife.care
END:VEVENT
BEGIN:VEVENT
DTSTART;TZID=UTC:20250710T100000
DTEND;TZID=UTC:20250710T103000
DTSTAMP:20260422T222305
CREATED:20250613T013546Z
LAST-MODIFIED:20250613T133940Z
UID:11404-1752141600-1752143400@dementialife.care
SUMMARY:Connected In Care: Virtual Trivia Fun!
DESCRIPTION:🎉🧠 CONNECTED IN CARE: VIRTUAL TRIVIA FUN! 🧠🎉Hosted by Dementia Life STL \n📅 Thursday\, July 10th🕙 10:00 AM Central | 💻 LIVE on Zoom \nCalling all Memory Care Communities\, Care Teams\, Families\, and Caregivers at Home —Let’s play together\, laugh together\, and stay connected through the joy of trivia! \n🎤 Fun\, upbeat host🧩 Easy questions for all stages🐾 Special themed rounds \nWhether you’re joining from a memory care living room or sitting side-by-side with a loved one at home\, this is your chance to bond\, smile\, and be part of something joyful — together. \nZoom link: https://us05web.zoom.us/j/5755209032 \n👉 RSVP: mary@dementialife.care \nLet’s bring joy and connection to dementia care\, one trivia question at a time!
URL:https://dementialife.care/event/connected-in-care-virtual-trivia-fun/
LOCATION:Zoom
ORGANIZER;CN="Mary Stoinski":MAILTO:mary@dementialife.care
END:VEVENT
BEGIN:VEVENT
DTSTART;TZID=UTC:20250722T140000
DTEND;TZID=UTC:20250722T150000
DTSTAMP:20260422T222305
CREATED:20250528T211448Z
LAST-MODIFIED:20250528T211448Z
UID:11343-1753192800-1753196400@dementialife.care
SUMMARY:Dementia 101: Understanding the Basics for Better Care
DESCRIPTION:Join us in person at New Perspective Senior Living in Weldon Spring Missouri for Dementia 101. In this session\, you’ll learn the basics of dementia—what causes it\, how it shows up\, and how it changes over time. We’ll talk about how it affects memory\, behavior\, and communication\, and share simple\, caring ways to support your loved one. Our goal is to help you feel more confident and\nconnected as you care for someone living with dementia.
URL:https://dementialife.care/event/dementia-101-understanding-the-basics-for-better-care-2/
LOCATION:Missouri
CATEGORIES:Workshop
END:VEVENT
BEGIN:VEVENT
DTSTART;TZID=UTC:20250729T180000
DTEND;TZID=UTC:20250729T190000
DTSTAMP:20260422T222305
CREATED:20250605T004241Z
LAST-MODIFIED:20250605T004241Z
UID:11378-1753812000-1753815600@dementialife.care
SUMMARY:Person-Centered Care: Ensuring Your Loved One is Seen and Known
DESCRIPTION:When someone you love is living with dementia\, what matters most is that they are treated as a whole person—not just a diagnosis. Join us for a practical\, uplifting session focused on person-centered care: what it is\, why it matters\, and how you can help create it. \nTogether\, we’ll explore: \n✅ What person-centered care really looks like \n \n✅ When and how to advocate for it at home or in a care setting \n \n✅ How to create a Personalized Care Profile that highlights your loved one’s preferences\, routines\, and life story \n \n✅ How to build a simple Memory Book to support connection and reduce anxiety \n \n✅ How to partner with long-term care staff or home care aides to bring these tools to life \n \n✅ What to do when the relationship with staff is difficult—and how to navigate that with compassion and clarity \n \nWhether your loved one is at home or in memory care\, this workshop is designed to empower and encourage you with real-life tools\, ideas\, and support. \nYou know your loved one best. Let’s make sure everyone else does too. 💛 \n🗓️ Date: July 29th\n 🕒 Time: 6:00pm \n 📍 Location: Zoom\n 🎟️ Free to Attend – All Are Welcome \nRSVP: mary@dementialife.care
URL:https://dementialife.care/event/person-centered-care-ensuring-your-loved-one-is-seen-and-known/
LOCATION:Zoom
ORGANIZER;CN="Mary Stoinski":MAILTO:mary@dementialife.care
END:VEVENT
BEGIN:VEVENT
DTSTART;TZID=UTC:20250731T100000
DTEND;TZID=UTC:20250731T110000
DTSTAMP:20260422T222305
CREATED:20250613T013906Z
LAST-MODIFIED:20250613T013906Z
UID:11409-1753956000-1753959600@dementialife.care
SUMMARY:Connected In Care - Musical Memories on Zoom!
DESCRIPTION:Join us Thursday July 31st at 10:00am CST on Zoom for a heartwarming musical event designed especially for those living with dementia. Dementia Life Founder Mary Stoinski will be singing familiar favorites—songs that spark joy\, evoke memories\, and invite everyone to sing along. Whether you’re someone living with dementia\, a memory care community\, a caregiver\, a family member\, or just someone who loves music\, this event is for you! Contact mary@dementialife.care for more information!
URL:https://dementialife.care/event/connected-in-care-musical-memories-on-zoom/
LOCATION:Zoom
ORGANIZER;CN="Mary Stoinski":MAILTO:mary@dementialife.care
END:VEVENT
END:VCALENDAR