BEGIN:VCALENDAR
VERSION:2.0
PRODID:-//Dementia Life - ECPv6.15.20//NONSGML v1.0//EN
CALSCALE:GREGORIAN
METHOD:PUBLISH
X-WR-CALNAME:Dementia Life
X-ORIGINAL-URL:https://dementialife.care
X-WR-CALDESC:Events for Dementia Life
REFRESH-INTERVAL;VALUE=DURATION:PT1H
X-Robots-Tag:noindex
X-PUBLISHED-TTL:PT1H
BEGIN:VTIMEZONE
TZID:UTC
BEGIN:STANDARD
TZOFFSETFROM:+0000
TZOFFSETTO:+0000
TZNAME:UTC
DTSTART:20240101T000000
END:STANDARD
END:VTIMEZONE
BEGIN:VEVENT
DTSTART;TZID=UTC:20250822T104500
DTEND;TZID=UTC:20250822T111500
DTSTAMP:20260422T222947
CREATED:20250728T131518Z
LAST-MODIFIED:20250728T131518Z
UID:11526-1755859500-1755861300@dementialife.care
SUMMARY:Connected in Care Virtual Music! - Special Friday Time
DESCRIPTION:Join us on zoom for another fun sing a long as we do hits of the decades!
URL:https://dementialife.care/event/connected-in-care-virtual-music-special-friday-time/
LOCATION:Zoom
ORGANIZER;CN="Mary Stoinski":MAILTO:mary@dementialife.care
END:VEVENT
BEGIN:VEVENT
DTSTART;TZID=UTC:20250820T153000
DTEND;TZID=UTC:20250820T163000
DTSTAMP:20260422T222947
CREATED:20250728T131235Z
LAST-MODIFIED:20250728T131235Z
UID:11523-1755703800-1755707400@dementialife.care
SUMMARY:Family Education at Villages of St. Peters - Stages of Dementia
DESCRIPTION:In this warm and practical session\, we’ll walk through the early\, middle\, and late stages of dementia\, helping you understand what to expect and how to offer meaningful support at each point in the journey. You’ll learn how to stay connected\, adapt your care\, and bring comfort and dignity to your loved one\,\nno matter the stage. Whether you’re just beginning this path or deep in the caregiving experience\, you’ll leave with clear tools\, guidance\, and hope.
URL:https://dementialife.care/event/family-education-at-villages-of-st-peters-stages-of-dementia/
LOCATION:Villages of St. Peters\, 5400 EXECUTIVE CENTER PARKWAY\, St. Peters\, MO\, United States
ORGANIZER;CN="Mary Stoinski":MAILTO:mary@dementialife.care
END:VEVENT
BEGIN:VEVENT
DTSTART;TZID=UTC:20250814T100000
DTEND;TZID=UTC:20250814T103000
DTSTAMP:20260422T222947
CREATED:20250728T130841Z
LAST-MODIFIED:20250728T130841Z
UID:11521-1755165600-1755167400@dementialife.care
SUMMARY:Connected In Care - Trivia on Zoom!
DESCRIPTION:CONNECTED IN CARE: VIRTUAL TRIVIA FUN! Hosted by Dementia Life STL \n Thursday\, August 14th 10:00 AM Central |  LIVE on Zoom \nCalling all Memory Care Communities\, Care Teams\, Families\, and Caregivers at Home —Let’s play together\, laugh together\, and stay connected through the joy of trivia! \n Fun\, upbeat host Easy questions for all stages Special themed rounds \nWhether you’re joining from a memory care living room or sitting side-by-side with a loved one at home\, this is your chance to bond\, smile\, and be part of something joyful — together. \nZoom link: https://us05web.zoom.us/j/5755209032 \n RSVP: mary@dementialife.care \nLet’s bring joy and connection to dementia care\, one trivia question at a time!
URL:https://dementialife.care/event/connected-in-care-trivia-on-zoom/
LOCATION:Zoom
ORGANIZER;CN="Mary Stoinski":MAILTO:mary@dementialife.care
END:VEVENT
BEGIN:VEVENT
DTSTART;TZID=UTC:20250811T180000
DTEND;TZID=UTC:20250811T190000
DTSTAMP:20260422T222947
CREATED:20250728T130602Z
LAST-MODIFIED:20250728T130602Z
UID:11518-1754935200-1754938800@dementialife.care
SUMMARY:Dementia 101 at Clarendale: Understanding the Basics for Better Care
DESCRIPTION:Dementia 101: Understanding the Basics for Better Care is a free\, in-person education session for families who are caring for someone with dementia or simply want to learn more. Together\, we’ll explore what dementia is (and what it isn’t)\, how it affects the brain and behavior\, and the early signs to watch for. You’ll gain practical tools for better communication and caregiving\, while also having the chance to connect with other families walking a similar path. Come as you are—whether you’re new to dementia or have been caregiving for years — and leave with knowledge\, community\, and support. All are welcome.
URL:https://dementialife.care/event/dementia-101-at-clarendale-understanding-the-basics-for-better-care/
LOCATION:Clarendale of St. Peters\, 10 Dubray Drive\, St. Peters\, MO\, United States
ORGANIZER;CN="Mary Stoinski":MAILTO:mary@dementialife.care
END:VEVENT
BEGIN:VEVENT
DTSTART;TZID=UTC:20250807T100000
DTEND;TZID=UTC:20250807T103000
DTSTAMP:20260422T222947
CREATED:20250728T130137Z
LAST-MODIFIED:20250728T130137Z
UID:11516-1754560800-1754562600@dementialife.care
SUMMARY:Connected In Care Sing-a-Long!
DESCRIPTION:Join us for a fun sing-a-long\, tailored for individuals living with dementia and their caregivers. Dementia Life Founder Mary Stoinski will be singing familiar favorites—songs that spark joy\, evoke memories\, and invite everyone to sing along. Whether you’re someone living with dementia\, a memory care community\, a caregiver\, a family member\, or just someone who loves music\, this event is for you! Contact mary@dementialife.care for more information!
URL:https://dementialife.care/event/connected-in-care-sing-a-long/
LOCATION:Zoom
ORGANIZER;CN="Mary Stoinski":MAILTO:mary@dementialife.care
END:VEVENT
BEGIN:VEVENT
DTSTART;TZID=UTC:20250804T180000
DTEND;TZID=UTC:20250804T190000
DTSTAMP:20260422T222947
CREATED:20250728T125619Z
LAST-MODIFIED:20250728T125619Z
UID:11512-1754330400-1754334000@dementialife.care
SUMMARY:Family Dementia Education at The Grande: Dementia 101
DESCRIPTION:In this session\, you’ll learn the basics of dementia—what causes it\, how it shows up\, and how it changes over time. We’ll talk about how it affects memory\, behavior\, and communication\, and share simple\, caring ways to support your loved one. Our goal is to help you feel more confident and connected as\nyou care for someone living with dementia.
URL:https://dementialife.care/event/family-dementia-education-at-the-grande-dementia-101/
LOCATION:The Grande at Chesterfield\, 450 N LINDBERGH BLVD\, Creve Couer\, MO\, 63141\, United States
ORGANIZER;CN="Mary Stoinski":MAILTO:mary@dementialife.care
END:VEVENT
BEGIN:VEVENT
DTSTART;TZID=UTC:20250731T100000
DTEND;TZID=UTC:20250731T110000
DTSTAMP:20260422T222947
CREATED:20250613T013906Z
LAST-MODIFIED:20250613T013906Z
UID:11409-1753956000-1753959600@dementialife.care
SUMMARY:Connected In Care - Musical Memories on Zoom!
DESCRIPTION:Join us Thursday July 31st at 10:00am CST on Zoom for a heartwarming musical event designed especially for those living with dementia. Dementia Life Founder Mary Stoinski will be singing familiar favorites—songs that spark joy\, evoke memories\, and invite everyone to sing along. Whether you’re someone living with dementia\, a memory care community\, a caregiver\, a family member\, or just someone who loves music\, this event is for you! Contact mary@dementialife.care for more information!
URL:https://dementialife.care/event/connected-in-care-musical-memories-on-zoom/
LOCATION:Zoom
ORGANIZER;CN="Mary Stoinski":MAILTO:mary@dementialife.care
END:VEVENT
BEGIN:VEVENT
DTSTART;TZID=UTC:20250729T180000
DTEND;TZID=UTC:20250729T190000
DTSTAMP:20260422T222947
CREATED:20250605T004241Z
LAST-MODIFIED:20250605T004241Z
UID:11378-1753812000-1753815600@dementialife.care
SUMMARY:Person-Centered Care: Ensuring Your Loved One is Seen and Known
DESCRIPTION:When someone you love is living with dementia\, what matters most is that they are treated as a whole person—not just a diagnosis. Join us for a practical\, uplifting session focused on person-centered care: what it is\, why it matters\, and how you can help create it. \nTogether\, we’ll explore: \n✅ What person-centered care really looks like \n \n✅ When and how to advocate for it at home or in a care setting \n \n✅ How to create a Personalized Care Profile that highlights your loved one’s preferences\, routines\, and life story \n \n✅ How to build a simple Memory Book to support connection and reduce anxiety \n \n✅ How to partner with long-term care staff or home care aides to bring these tools to life \n \n✅ What to do when the relationship with staff is difficult—and how to navigate that with compassion and clarity \n \nWhether your loved one is at home or in memory care\, this workshop is designed to empower and encourage you with real-life tools\, ideas\, and support. \nYou know your loved one best. Let’s make sure everyone else does too. 💛 \n🗓️ Date: July 29th\n 🕒 Time: 6:00pm \n 📍 Location: Zoom\n 🎟️ Free to Attend – All Are Welcome \nRSVP: mary@dementialife.care
URL:https://dementialife.care/event/person-centered-care-ensuring-your-loved-one-is-seen-and-known/
LOCATION:Zoom
ORGANIZER;CN="Mary Stoinski":MAILTO:mary@dementialife.care
END:VEVENT
BEGIN:VEVENT
DTSTART;TZID=UTC:20250722T140000
DTEND;TZID=UTC:20250722T150000
DTSTAMP:20260422T222947
CREATED:20250528T211448Z
LAST-MODIFIED:20250528T211448Z
UID:11343-1753192800-1753196400@dementialife.care
SUMMARY:Dementia 101: Understanding the Basics for Better Care
DESCRIPTION:Join us in person at New Perspective Senior Living in Weldon Spring Missouri for Dementia 101. In this session\, you’ll learn the basics of dementia—what causes it\, how it shows up\, and how it changes over time. We’ll talk about how it affects memory\, behavior\, and communication\, and share simple\, caring ways to support your loved one. Our goal is to help you feel more confident and\nconnected as you care for someone living with dementia.
URL:https://dementialife.care/event/dementia-101-understanding-the-basics-for-better-care-2/
LOCATION:MO
CATEGORIES:Workshop
END:VEVENT
BEGIN:VEVENT
DTSTART;TZID=UTC:20250710T100000
DTEND;TZID=UTC:20250710T103000
DTSTAMP:20260422T222947
CREATED:20250613T013546Z
LAST-MODIFIED:20250613T133940Z
UID:11404-1752141600-1752143400@dementialife.care
SUMMARY:Connected In Care: Virtual Trivia Fun!
DESCRIPTION:🎉🧠 CONNECTED IN CARE: VIRTUAL TRIVIA FUN! 🧠🎉Hosted by Dementia Life STL \n📅 Thursday\, July 10th🕙 10:00 AM Central | 💻 LIVE on Zoom \nCalling all Memory Care Communities\, Care Teams\, Families\, and Caregivers at Home —Let’s play together\, laugh together\, and stay connected through the joy of trivia! \n🎤 Fun\, upbeat host🧩 Easy questions for all stages🐾 Special themed rounds \nWhether you’re joining from a memory care living room or sitting side-by-side with a loved one at home\, this is your chance to bond\, smile\, and be part of something joyful — together. \nZoom link: https://us05web.zoom.us/j/5755209032 \n👉 RSVP: mary@dementialife.care \nLet’s bring joy and connection to dementia care\, one trivia question at a time!
URL:https://dementialife.care/event/connected-in-care-virtual-trivia-fun/
LOCATION:Zoom
ORGANIZER;CN="Mary Stoinski":MAILTO:mary@dementialife.care
END:VEVENT
BEGIN:VEVENT
DTSTART;TZID=UTC:20250709T180000
DTEND;TZID=UTC:20250709T190000
DTSTAMP:20260422T222947
CREATED:20250604T233548Z
LAST-MODIFIED:20250604T233548Z
UID:11371-1752084000-1752087600@dementialife.care
SUMMARY:Dementia 101: Understanding the Basics For Better Care
DESCRIPTION:Join us in person at The Bridge in New Town St. Charles on Wednesday July 9th at 6:00pm for Dementia 101. In this session\, you’ll learn the basics of dementia—what causes it\, how it shows up\, and how it changes over time. We’ll talk about how it affects memory\, behavior\, and communication\, and share simple\, caring ways to support your loved one. Our goal is to help you feel more confident and connected as you care for someone living with dementia.
URL:https://dementialife.care/event/dementia-101-understanding-the-basics-for-better-care-3/
LOCATION:The Bridge\, 3257 Domain St\, Saint Charles\, MO\, 63301\, United States
ORGANIZER;CN="Mary Stoinski":MAILTO:mary@dementialife.care
END:VEVENT
BEGIN:VEVENT
DTSTART;TZID=UTC:20250703T100000
DTEND;TZID=UTC:20250703T110000
DTSTAMP:20260422T222947
CREATED:20250605T010937Z
LAST-MODIFIED:20250613T133901Z
UID:11380-1751536800-1751540400@dementialife.care
SUMMARY:Connected in Care: Musical Memories on Zoom!
DESCRIPTION:Join us Thursday July 3rd at 10:00am CST on Zoom for a heartwarming musical event designed especially for those living with dementia. Dementia Life Founder Mary Stoinski will be singing familiar favorites—songs that spark joy\, evoke memories\, and invite everyone to sing along. Whether you’re someone living with dementia\, a memory care community\, a caregiver\, a family member\, or just someone who loves music\, this event is for you! Contact mary@dementialife.care for more information!
URL:https://dementialife.care/event/connected-in-care-musical-memories-on-zoom-july/
LOCATION:Zoom
END:VEVENT
BEGIN:VEVENT
DTSTART;TZID=UTC:20250630T180000
DTEND;TZID=UTC:20250630T190000
DTSTAMP:20260422T222947
CREATED:20250605T161810Z
LAST-MODIFIED:20250608T231656Z
UID:11383-1751306400-1751310000@dementialife.care
SUMMARY:Is It Dementia? Knowing the Signs and Next Steps
DESCRIPTION:When someone you love starts showing signs of forgetfulness\, confusion\, or changes in behavior\, it can feel overwhelming and uncertain. \nYou’re not alone—and we’re here to help. \nJoin us for a warm\, supportive session where we’ll walk through: \n\nCommon signs and symptoms of dementia\nWhat’s normal aging vs. when to be concerned\nHow to talk to your loved one and your family\nFirst practical steps to take—medical\, legal\, and emotional\nResources available to support you now\n\n📅 Date: Monday June 30th🕐 Time: 6:00pm CST💻 Location: Zoom🎟️ Cost: Free\, open to all \nWhether you’re just beginning to ask questions or already feeling overwhelmed\, this session is for you. \nRegister today at: mary@dementialife.care \n\nYou are not alone on this journey. Dementia Life STL is here for you—every step of the way.
URL:https://dementialife.care/event/is-it-dementia-knowing-the-signs-and-next-steps/
LOCATION:Zoom
CATEGORIES:Workshop
ORGANIZER;CN="Mary Stoinski":MAILTO:mary@dementialife.care
END:VEVENT
BEGIN:VEVENT
DTSTART;TZID=UTC:20250616T180000
DTEND;TZID=UTC:20250616T193000
DTSTAMP:20260422T222947
CREATED:20250603T014040Z
LAST-MODIFIED:20250603T014040Z
UID:11353-1750096800-1750102200@dementialife.care
SUMMARY:Live Dementia Q&A - Ask An Expert!
DESCRIPTION:Join us for a live Zoom Q&A with dementia care experts from Dementia Life STL! \nCaring for a loved one with dementia is hard — especially when you’re faced with tough questions and heartbreaking situations that don’t have easy answers. Bring your biggest challenges\, get real answers and practical support and know you are not alone. \nAt this free event\, you’ll have the chance to: \n🔹 Ask an expert about the real-life problems you’re facing🔹 Get practical advice on communication\, behavior changes\, daily care\, and much more🔹 Connect with other caregivers who get it🔹 Leave with new tools—and a little more peace of mind \n📅 Date: June 16th⏰ Time: 6:00pm CST📍 Where: Zoom (link sent after RSVP) \nThis is your space to be honest\, be heard\, and get support from someone who understands dementia care inside and out. \nRSVP and submit your question here: mary@dementialife.care \nDementia Life STL – Because no caregiver should have to figure it all out alone.
URL:https://dementialife.care/event/live-dementia-qa-ask-an-expert/
LOCATION:Zoom
CATEGORIES:Workshop
ORGANIZER;CN="Mary Stoinski":MAILTO:mary@dementialife.care
END:VEVENT
BEGIN:VEVENT
DTSTART;TZID=UTC:20250612T103000
DTEND;TZID=UTC:20250612T110000
DTSTAMP:20260422T222947
CREATED:20250528T210208Z
LAST-MODIFIED:20250604T021413Z
UID:11340-1749724200-1749726000@dementialife.care
SUMMARY:Connected in Care Series: Musical Memories on Zoom!
DESCRIPTION:Join us Thursday June 12th at 10:30am CST on Zoom for a heartwarming musical event designed especially for those living with dementia. Dementia Life Founder Mary Stoinski will be singing familiar favorites—songs that spark joy\, evoke memories\, and invite everyone to sing along. Whether you’re someone living with dementia\, a memory care community\, a caregiver\, a family member\, or just someone who loves music\, this event is for you! Contact mary@dementialife.care for more information.
URL:https://dementialife.care/event/connected-in-care-series-musical-memories-on-zoom/
LOCATION:Zoom
ORGANIZER;CN="Mary Stoinski":MAILTO:mary@dementialife.care
END:VEVENT
BEGIN:VEVENT
DTSTART;TZID=UTC:20250519T183000
DTEND;TZID=UTC:20250519T200000
DTSTAMP:20260422T222947
CREATED:20250430T013542Z
LAST-MODIFIED:20250518T222159Z
UID:11105-1747679400-1747684800@dementialife.care
SUMMARY:Dementia 101: Understanding the Basics for Better Care
DESCRIPTION:About this Session:\nThis session provides a foundational understanding of dementia\, including its causes\, symptoms\, and progression. \nAttendees will gain insight into how dementia impacts memory\, behavior\, and communication\, along with practical strategies for providing compassionate support. Whether you’re a caregiver\, educator\, or healthcare professional\, this presentation will equip you with the knowledge needed to foster meaningful connections and improve quality of life for those living with dementia. \n  \nAbout Mary:\nMary is a certified practitioner of Montessori for Dementia through the Association of Montessori International. She is also a trainer of Dementia Capable Care through Crisis Prevention Institute\, a community educator for the Alzheimer’s Association\, and a PAC Coach through the Teepa Snow organization\, Positive Approach to Care. \nMary spent many years developing programming and training for memory care communities and is passionate about helping individuals and families discover life and hope throughout their journey of Dementia. \n  \nRegister:\nYou can register here
URL:https://dementialife.care/event/dementia-101-understanding-the-basics-for-better-care/
LOCATION:Zoom
CATEGORIES:Workshop
ORGANIZER;CN="Mary Stoinski":MAILTO:mary@dementialife.care
END:VEVENT
BEGIN:VEVENT
DTSTART;TZID=UTC:20250514T180000
DTEND;TZID=UTC:20250514T200000
DTSTAMP:20260422T222947
CREATED:20250430T141033Z
LAST-MODIFIED:20250430T141033Z
UID:11151-1747245600-1747252800@dementialife.care
SUMMARY:Senior Care - Dementia Life Workshop
DESCRIPTION:Event Details:\nMary will offer expert education and resources for families caring for someone with dementia\, or for anyone who wants to gain knowledge about aging and dementia. You will find Mary’s knowledge and passion to be energizing and contagious as she shares her heart and statistics about this disease that touches nearly every family.  \nThis event is free and will take place at Faith Community Church in the Commons. \n  \nRegister:\nYou can register here
URL:https://dementialife.care/event/senior-care-dementia-life-workshop/
LOCATION:Faith Community Church\, 4824 Scottsdale Rd.\, House Springs\, MO\, 63051\, United States
CATEGORIES:Workshop
ATTACH;FMTTYPE=image/jpeg:https://dementialife.care/wp-content/uploads/2025/04/medium_image-1745428449025.jpg
ORGANIZER;CN="Mary Stoinski":MAILTO:mary@dementialife.care
END:VEVENT
END:VCALENDAR