BEGIN:VCALENDAR
VERSION:2.0
PRODID:-//Dementia Life - ECPv6.15.18//NONSGML v1.0//EN
CALSCALE:GREGORIAN
METHOD:PUBLISH
X-WR-CALNAME:Dementia Life
X-ORIGINAL-URL:https://dementialife.care
X-WR-CALDESC:Events for Dementia Life
REFRESH-INTERVAL;VALUE=DURATION:PT1H
X-Robots-Tag:noindex
X-PUBLISHED-TTL:PT1H
BEGIN:VTIMEZONE
TZID:UTC
BEGIN:STANDARD
TZOFFSETFROM:+0000
TZOFFSETTO:+0000
TZNAME:UTC
DTSTART:20250101T000000
END:STANDARD
END:VTIMEZONE
BEGIN:VEVENT
DTSTART;TZID=UTC:20260119T180000
DTEND;TZID=UTC:20260119T190000
DTSTAMP:20260422T172022
CREATED:20251222T200858Z
LAST-MODIFIED:20251222T200858Z
UID:11988-1768845600-1768849200@dementialife.care
SUMMARY:In Case of Emergency: A Dementia Caregiver’s Guide to Being Prepared
DESCRIPTION:Emergencies can be frightening — especially when a loved one is living with dementia.This education is designed to help families feel more prepared\, more confident\, and less overwhelmed when something unexpected happens. \nJoin Dementia Life STL and special guest Paramedic Lizzy Stoinski for a practical\, compassionate session that covers: \n\n\nWhen to call 911 — and when not toUnderstand common situations\, what truly requires emergency services\, and when other options may be safer and more appropriate. \n\n\nWhat to expect when emergency services arriveHow first responders assess situations\, how dementia may affect the interaction\, and how you can advocate for your loved one. \n\n\nHaving important documents readyWhat paperwork to gather ahead of time (and where to keep it) to reduce stress and delays during an emergency. \n\n\nWays to minimize emergency callsSimple planning strategies\, environmental adjustments\, and early interventions that can prevent many crises. \n\n\nFall response basicsWhat to do if your loved one falls\, when not to lift\, and how to protect both of you from injury. \n\n\nThis session is not about fear—it’s about preparation\, peace of mind\, and knowing you are not alone. \nWhether you’re a new caregiver or have been on this journey for years\, you’ll leave with clear guidance\, practical tools\, and reassurance for navigating emergencies with greater confidence and care. RSVP via text to Wanita: 314-650-7003
URL:https://dementialife.care/event/in-case-of-emergency-a-dementia-caregivers-guide-to-being-prepared/
LOCATION:Faith Community Church\, 4824 Scottsdale Rd.\, House Springs\, MO\, 63051\, United States
CATEGORIES:Workshop
END:VEVENT
END:VCALENDAR