BEGIN:VCALENDAR
VERSION:2.0
PRODID:-//Dementia Life - ECPv6.15.20//NONSGML v1.0//EN
CALSCALE:GREGORIAN
METHOD:PUBLISH
X-ORIGINAL-URL:https://dementialife.care
X-WR-CALDESC:Events for Dementia Life
REFRESH-INTERVAL;VALUE=DURATION:PT1H
X-Robots-Tag:noindex
X-PUBLISHED-TTL:PT1H
BEGIN:VTIMEZONE
TZID:UTC
BEGIN:STANDARD
TZOFFSETFROM:+0000
TZOFFSETTO:+0000
TZNAME:UTC
DTSTART:20240101T000000
END:STANDARD
END:VTIMEZONE
BEGIN:VEVENT
DTSTART;TZID=UTC:20250923T113000
DTEND;TZID=UTC:20250923T123000
DTSTAMP:20260422T233303
CREATED:20250826T004859Z
LAST-MODIFIED:20250826T004859Z
UID:11578-1758627000-1758630600@dementialife.care
SUMMARY:Lunch and Learn- Be A Dementia Detective: Discovering the Needs Behind Challenging Behaviors
DESCRIPTION:Every behavior tells a story — come learn how to read it. \nJoin Dementia Life STL for our brand-new Lunch & Learn Series on Zoom! Our first topic is: “Be a Dementia Detective – Discovering the Needs Behind Challenging Behaviors.” This interactive session is open to all who care for or work alongside people living with dementia — family caregivers\, spouses\, CNAs\, memory care directors\, care home administrators\, home health aides\, activity staff\, and more. Together\, we’ll explore the hidden causes behind common behaviors\, learn practical techniques for responding with compassion\, and discover how to meet real needs beneath the surface. Bring your lunch\, your questions\, and your curiosity — and leave with fresh insight and tools to make daily care a little easier and more meaningful.
URL:https://dementialife.care/event/lunch-and-learn-be-a-dementia-detective-discovering-the-needs-behind-challenging-behaviors/
LOCATION:Zoom
CATEGORIES:Workshop
END:VEVENT
END:VCALENDAR