BEGIN:VCALENDAR
VERSION:2.0
PRODID:-//Dementia Life - ECPv6.15.18//NONSGML v1.0//EN
CALSCALE:GREGORIAN
METHOD:PUBLISH
X-ORIGINAL-URL:https://dementialife.care
X-WR-CALDESC:Events for Dementia Life
REFRESH-INTERVAL;VALUE=DURATION:PT1H
X-Robots-Tag:noindex
X-PUBLISHED-TTL:PT1H
BEGIN:VTIMEZONE
TZID:Africa/Abidjan
BEGIN:STANDARD
TZOFFSETFROM:+0000
TZOFFSETTO:+0000
TZNAME:GMT
DTSTART:20240101T000000
END:STANDARD
END:VTIMEZONE
BEGIN:VEVENT
DTSTART;TZID=Africa/Abidjan:20251003T180000
DTEND;TZID=Africa/Abidjan:20251003T230000
DTSTAMP:20260419T125223
CREATED:20250815T185311Z
LAST-MODIFIED:20251003T005710Z
UID:11547-1759514400-1759532400@dementialife.care
SUMMARY:Dementia Life - Western Whirl
DESCRIPTION:Pull on your boots\, tip your hat\, and get ready for an unforgettable evening of western charm for a heartwarming purpose.\n\n\nDementia Life – Western Whirl\nThis isn’t just a night of good food and great company— it’s a chance to make a real difference. Every ticket\, every spin on the dance floor\, and every raffle ticket purchased helps us provide free education\, support\, and joy for people living with dementia and the families who love them. \nSo reserve your spot today.\nCall 314-704-8294 or email mary@dementialife.care for a possible last minute ticket. \n  \nLet’s dance\, laugh\, and raise our glasses for a cause worth fighting for. See you at the 2025 Dementia Life Western Whirl!
URL:https://dementialife.care/event/dementia-life-western-whirl/
LOCATION:The Marquee at New Town\, 3544 Galt House Drive\, Saint Charles\, MO 63301\, Saint Charles\, MO\, 63301\, US
CATEGORIES:Western Whirl
ATTACH;FMTTYPE=image/jpeg:https://dementialife.care/wp-content/uploads/2025/08/11547_image.jpg
END:VEVENT
END:VCALENDAR